BEGIN:VCALENDAR
VERSION:2.0
PRODID:-//Risen Hope Church - ECPv6.15.18//NONSGML v1.0//EN
CALSCALE:GREGORIAN
METHOD:PUBLISH
X-WR-CALNAME:Risen Hope Church
X-ORIGINAL-URL:https://www.risenhopechurch.life
X-WR-CALDESC:Events for Risen Hope Church
REFRESH-INTERVAL;VALUE=DURATION:PT1H
X-Robots-Tag:noindex
X-PUBLISHED-TTL:PT1H
BEGIN:VTIMEZONE
TZID:America/Chicago
BEGIN:DAYLIGHT
TZOFFSETFROM:-0600
TZOFFSETTO:-0500
TZNAME:CDT
DTSTART:20240310T080000
END:DAYLIGHT
BEGIN:STANDARD
TZOFFSETFROM:-0500
TZOFFSETTO:-0600
TZNAME:CST
DTSTART:20241103T070000
END:STANDARD
BEGIN:DAYLIGHT
TZOFFSETFROM:-0600
TZOFFSETTO:-0500
TZNAME:CDT
DTSTART:20250309T080000
END:DAYLIGHT
BEGIN:STANDARD
TZOFFSETFROM:-0500
TZOFFSETTO:-0600
TZNAME:CST
DTSTART:20251102T070000
END:STANDARD
BEGIN:DAYLIGHT
TZOFFSETFROM:-0600
TZOFFSETTO:-0500
TZNAME:CDT
DTSTART:20260308T080000
END:DAYLIGHT
BEGIN:STANDARD
TZOFFSETFROM:-0500
TZOFFSETTO:-0600
TZNAME:CST
DTSTART:20261101T070000
END:STANDARD
END:VTIMEZONE
BEGIN:VEVENT
DTSTART;TZID=America/Chicago:20251005T100000
DTEND;TZID=America/Chicago:20251005T113000
DTSTAMP:20260419T193631
CREATED:20250405T202933Z
LAST-MODIFIED:20250406T023737Z
UID:1135-1759658400-1759663800@www.risenhopechurch.life
SUMMARY:Sunday Service
DESCRIPTION:
URL:https://www.risenhopechurch.life/event/sunday-service-28/
CATEGORIES:Worship Service
END:VEVENT
BEGIN:VEVENT
DTSTART;TZID=America/Chicago:20250928T100000
DTEND;TZID=America/Chicago:20250928T113000
DTSTAMP:20260419T193631
CREATED:20250405T202933Z
LAST-MODIFIED:20250406T023737Z
UID:1133-1759053600-1759059000@www.risenhopechurch.life
SUMMARY:Sunday Service
DESCRIPTION:
URL:https://www.risenhopechurch.life/event/sunday-service-27/
CATEGORIES:Worship Service
END:VEVENT
BEGIN:VEVENT
DTSTART;TZID=America/Chicago:20250928T080000
DTEND;TZID=America/Chicago:20250928T090000
DTSTAMP:20260419T193631
CREATED:20250405T202933Z
LAST-MODIFIED:20250406T023737Z
UID:1132-1759046400-1759050000@www.risenhopechurch.life
SUMMARY:Bagel Sunday
DESCRIPTION:
URL:https://www.risenhopechurch.life/event/bagel-sunday-6/
CATEGORIES:Worship Service
END:VEVENT
BEGIN:VEVENT
DTSTART;TZID=America/Chicago:20250921T100000
DTEND;TZID=America/Chicago:20250921T113000
DTSTAMP:20260419T193631
CREATED:20250405T202933Z
LAST-MODIFIED:20250406T023737Z
UID:1130-1758448800-1758454200@www.risenhopechurch.life
SUMMARY:Sunday Service
DESCRIPTION:
URL:https://www.risenhopechurch.life/event/sunday-service-26/
CATEGORIES:Worship Service
END:VEVENT
BEGIN:VEVENT
DTSTART;TZID=America/Chicago:20250921T000000
DTEND;TZID=America/Chicago:20250921T235959
DTSTAMP:20260419T193631
CREATED:20250405T202933Z
LAST-MODIFIED:20250406T233919Z
UID:1129-1758412800-1758499199@www.risenhopechurch.life
SUMMARY:Communion Sunday
DESCRIPTION:
URL:https://www.risenhopechurch.life/event/communion-sunday-5/
CATEGORIES:Worship Service
END:VEVENT
BEGIN:VEVENT
DTSTART;TZID=America/Chicago:20250914T100000
DTEND;TZID=America/Chicago:20250914T113000
DTSTAMP:20260419T193631
CREATED:20250405T202933Z
LAST-MODIFIED:20250406T023737Z
UID:1127-1757844000-1757849400@www.risenhopechurch.life
SUMMARY:Sunday Service
DESCRIPTION:
URL:https://www.risenhopechurch.life/event/sunday-service-25/
CATEGORIES:Worship Service
END:VEVENT
BEGIN:VEVENT
DTSTART;TZID=America/Chicago:20250907T100000
DTEND;TZID=America/Chicago:20250907T113000
DTSTAMP:20260419T193631
CREATED:20250405T202932Z
LAST-MODIFIED:20250406T023737Z
UID:1123-1757239200-1757244600@www.risenhopechurch.life
SUMMARY:Sunday Service
DESCRIPTION:
URL:https://www.risenhopechurch.life/event/sunday-service-24/
CATEGORIES:Worship Service
END:VEVENT
BEGIN:VEVENT
DTSTART;TZID=America/Chicago:20250831T100000
DTEND;TZID=America/Chicago:20250831T113000
DTSTAMP:20260419T193631
CREATED:20250405T202932Z
LAST-MODIFIED:20250406T023737Z
UID:1121-1756634400-1756639800@www.risenhopechurch.life
SUMMARY:Sunday Service
DESCRIPTION:
URL:https://www.risenhopechurch.life/event/sunday-service-23/
CATEGORIES:Worship Service
END:VEVENT
BEGIN:VEVENT
DTSTART;TZID=America/Chicago:20250831T080000
DTEND;TZID=America/Chicago:20250831T090000
DTSTAMP:20260419T193631
CREATED:20250405T202932Z
LAST-MODIFIED:20250406T023737Z
UID:1120-1756627200-1756630800@www.risenhopechurch.life
SUMMARY:Bagel Sunday
DESCRIPTION:
URL:https://www.risenhopechurch.life/event/bagel-sunday-5/
CATEGORIES:Worship Service
END:VEVENT
BEGIN:VEVENT
DTSTART;TZID=America/Chicago:20250824T100000
DTEND;TZID=America/Chicago:20250824T113000
DTSTAMP:20260419T193631
CREATED:20250405T202932Z
LAST-MODIFIED:20250406T023737Z
UID:1118-1756029600-1756035000@www.risenhopechurch.life
SUMMARY:Sunday Service
DESCRIPTION:
URL:https://www.risenhopechurch.life/event/sunday-service-22/
CATEGORIES:Worship Service
END:VEVENT
BEGIN:VEVENT
DTSTART;TZID=America/Chicago:20250817T100000
DTEND;TZID=America/Chicago:20250817T113000
DTSTAMP:20260419T193631
CREATED:20250405T202932Z
LAST-MODIFIED:20250406T023737Z
UID:1115-1755424800-1755430200@www.risenhopechurch.life
SUMMARY:Sunday Service
DESCRIPTION:
URL:https://www.risenhopechurch.life/event/sunday-service-21/
CATEGORIES:Worship Service
END:VEVENT
BEGIN:VEVENT
DTSTART;TZID=America/Chicago:20250817T000000
DTEND;TZID=America/Chicago:20250817T235959
DTSTAMP:20260419T193631
CREATED:20250405T202932Z
LAST-MODIFIED:20250406T233918Z
UID:1116-1755388800-1755475199@www.risenhopechurch.life
SUMMARY:Communion Sunday
DESCRIPTION:
URL:https://www.risenhopechurch.life/event/communion-sunday-4/
CATEGORIES:Worship Service
END:VEVENT
BEGIN:VEVENT
DTSTART;TZID=America/Chicago:20250810T100000
DTEND;TZID=America/Chicago:20250810T113000
DTSTAMP:20260419T193631
CREATED:20250405T202932Z
LAST-MODIFIED:20250406T023736Z
UID:1112-1754820000-1754825400@www.risenhopechurch.life
SUMMARY:Sunday Service
DESCRIPTION:
URL:https://www.risenhopechurch.life/event/sunday-service-20/
CATEGORIES:Worship Service
END:VEVENT
BEGIN:VEVENT
DTSTART;TZID=America/Chicago:20250803T100000
DTEND;TZID=America/Chicago:20250803T113000
DTSTAMP:20260419T193631
CREATED:20250405T202932Z
LAST-MODIFIED:20250406T023736Z
UID:1110-1754215200-1754220600@www.risenhopechurch.life
SUMMARY:Sunday Service
DESCRIPTION:
URL:https://www.risenhopechurch.life/event/sunday-service-19/
CATEGORIES:Worship Service
END:VEVENT
BEGIN:VEVENT
DTSTART;TZID=America/Chicago:20250727T100000
DTEND;TZID=America/Chicago:20250727T113000
DTSTAMP:20260419T193631
CREATED:20250405T202931Z
LAST-MODIFIED:20250406T023736Z
UID:1108-1753610400-1753615800@www.risenhopechurch.life
SUMMARY:Sunday Service
DESCRIPTION:
URL:https://www.risenhopechurch.life/event/sunday-service-18/
CATEGORIES:Worship Service
END:VEVENT
BEGIN:VEVENT
DTSTART;TZID=America/Chicago:20250727T080000
DTEND;TZID=America/Chicago:20250727T090000
DTSTAMP:20260419T193631
CREATED:20250405T202931Z
LAST-MODIFIED:20250406T023736Z
UID:1107-1753603200-1753606800@www.risenhopechurch.life
SUMMARY:Bagel Sunday
DESCRIPTION:
URL:https://www.risenhopechurch.life/event/bagel-sunday-4/
CATEGORIES:Worship Service
END:VEVENT
BEGIN:VEVENT
DTSTART;TZID=America/Chicago:20250720T100000
DTEND;TZID=America/Chicago:20250720T113000
DTSTAMP:20260419T193631
CREATED:20250405T202931Z
LAST-MODIFIED:20250406T023736Z
UID:1105-1753005600-1753011000@www.risenhopechurch.life
SUMMARY:Sunday Service
DESCRIPTION:
URL:https://www.risenhopechurch.life/event/sunday-service-17/
CATEGORIES:Worship Service
END:VEVENT
BEGIN:VEVENT
DTSTART;TZID=America/Chicago:20250713T100000
DTEND;TZID=America/Chicago:20250713T113000
DTSTAMP:20260419T193631
CREATED:20250405T202931Z
LAST-MODIFIED:20250406T023736Z
UID:1103-1752400800-1752406200@www.risenhopechurch.life
SUMMARY:Sunday Service
DESCRIPTION:
URL:https://www.risenhopechurch.life/event/sunday-service-16/
CATEGORIES:Worship Service
END:VEVENT
BEGIN:VEVENT
DTSTART;TZID=America/Chicago:20250713T000000
DTEND;TZID=America/Chicago:20250713T235959
DTSTAMP:20260419T193631
CREATED:20250405T202931Z
LAST-MODIFIED:20250406T233917Z
UID:1102-1752364800-1752451199@www.risenhopechurch.life
SUMMARY:Communion Sunday
DESCRIPTION:
URL:https://www.risenhopechurch.life/event/communion-sunday-3/
CATEGORIES:Worship Service
END:VEVENT
BEGIN:VEVENT
DTSTART;TZID=America/Chicago:20250706T100000
DTEND;TZID=America/Chicago:20250706T113000
DTSTAMP:20260419T193631
CREATED:20250405T202931Z
LAST-MODIFIED:20250406T023736Z
UID:1099-1751796000-1751801400@www.risenhopechurch.life
SUMMARY:Sunday Service
DESCRIPTION:
URL:https://www.risenhopechurch.life/event/sunday-service-15/
CATEGORIES:Worship Service
END:VEVENT
BEGIN:VEVENT
DTSTART;TZID=America/Chicago:20250629T100000
DTEND;TZID=America/Chicago:20250629T113000
DTSTAMP:20260419T193631
CREATED:20250405T202931Z
LAST-MODIFIED:20250406T023736Z
UID:1097-1751191200-1751196600@www.risenhopechurch.life
SUMMARY:Sunday Service
DESCRIPTION:
URL:https://www.risenhopechurch.life/event/sunday-service-14/
CATEGORIES:Worship Service
END:VEVENT
BEGIN:VEVENT
DTSTART;TZID=America/Chicago:20250629T100000
DTEND;TZID=America/Chicago:20250629T110000
DTSTAMP:20260419T193631
CREATED:20250405T202930Z
LAST-MODIFIED:20250629T152453Z
UID:1096-1751191200-1751194800@www.risenhopechurch.life
SUMMARY:Bagel Sunday
DESCRIPTION:
URL:https://www.risenhopechurch.life/event/bagel-sunday-3/
CATEGORIES:Worship Service
END:VEVENT
BEGIN:VEVENT
DTSTART;TZID=America/Chicago:20250622T100000
DTEND;TZID=America/Chicago:20250622T113000
DTSTAMP:20260419T193631
CREATED:20250405T202930Z
LAST-MODIFIED:20250406T023736Z
UID:1094-1750586400-1750591800@www.risenhopechurch.life
SUMMARY:Sunday Service
DESCRIPTION:
URL:https://www.risenhopechurch.life/event/sunday-service-13/
CATEGORIES:Worship Service
END:VEVENT
BEGIN:VEVENT
DTSTART;TZID=America/Chicago:20250615T100000
DTEND;TZID=America/Chicago:20250615T113000
DTSTAMP:20260419T193631
CREATED:20250405T202930Z
LAST-MODIFIED:20250406T023736Z
UID:1090-1749981600-1749987000@www.risenhopechurch.life
SUMMARY:Sunday Service
DESCRIPTION:
URL:https://www.risenhopechurch.life/event/sunday-service-12/
CATEGORIES:Worship Service
END:VEVENT
BEGIN:VEVENT
DTSTART;TZID=America/Chicago:20250608T100000
DTEND;TZID=America/Chicago:20250608T113000
DTSTAMP:20260419T193631
CREATED:20250405T202930Z
LAST-MODIFIED:20250406T023735Z
UID:1086-1749376800-1749382200@www.risenhopechurch.life
SUMMARY:Sunday Service
DESCRIPTION:
URL:https://www.risenhopechurch.life/event/sunday-service-11/
CATEGORIES:Worship Service
END:VEVENT
BEGIN:VEVENT
DTSTART;TZID=America/Chicago:20250608T000000
DTEND;TZID=America/Chicago:20250608T235959
DTSTAMP:20260419T193631
CREATED:20250405T202930Z
LAST-MODIFIED:20250406T233917Z
UID:1087-1749340800-1749427199@www.risenhopechurch.life
SUMMARY:Communion Sunday
DESCRIPTION:
URL:https://www.risenhopechurch.life/event/communion-sunday-2/
CATEGORIES:Worship Service
END:VEVENT
BEGIN:VEVENT
DTSTART;TZID=America/Chicago:20250601T100000
DTEND;TZID=America/Chicago:20250601T113000
DTSTAMP:20260419T193631
CREATED:20250405T202930Z
LAST-MODIFIED:20250406T023735Z
UID:1081-1748772000-1748777400@www.risenhopechurch.life
SUMMARY:Sunday Service
DESCRIPTION:
URL:https://www.risenhopechurch.life/event/sunday-service-10/
CATEGORIES:Worship Service
END:VEVENT
BEGIN:VEVENT
DTSTART;TZID=America/Chicago:20250525T100000
DTEND;TZID=America/Chicago:20250525T113000
DTSTAMP:20260419T193631
CREATED:20250405T202929Z
LAST-MODIFIED:20250406T023735Z
UID:1079-1748167200-1748172600@www.risenhopechurch.life
SUMMARY:Sunday Service
DESCRIPTION:
URL:https://www.risenhopechurch.life/event/sunday-service-9/
CATEGORIES:Worship Service
END:VEVENT
BEGIN:VEVENT
DTSTART;TZID=America/Chicago:20250525T100000
DTEND;TZID=America/Chicago:20250525T110000
DTSTAMP:20260419T193631
CREATED:20250405T202929Z
LAST-MODIFIED:20250525T155544Z
UID:1078-1748167200-1748170800@www.risenhopechurch.life
SUMMARY:Bagel Sunday
DESCRIPTION:
URL:https://www.risenhopechurch.life/event/bagel-sunday-2/
CATEGORIES:Worship Service
END:VEVENT
BEGIN:VEVENT
DTSTART;TZID=America/Chicago:20250518T100000
DTEND;TZID=America/Chicago:20250518T113000
DTSTAMP:20260419T193631
CREATED:20250405T202929Z
LAST-MODIFIED:20250406T023735Z
UID:1074-1747562400-1747567800@www.risenhopechurch.life
SUMMARY:Sunday Service
DESCRIPTION:
URL:https://www.risenhopechurch.life/event/sunday-service-8/
CATEGORIES:Worship Service
END:VEVENT
END:VCALENDAR