BEGIN:VCALENDAR
VERSION:2.0
PRODID:-//Risen Hope Church - ECPv6.15.18//NONSGML v1.0//EN
CALSCALE:GREGORIAN
METHOD:PUBLISH
X-ORIGINAL-URL:https://www.risenhopechurch.life
X-WR-CALDESC:Events for Risen Hope Church
REFRESH-INTERVAL;VALUE=DURATION:PT1H
X-Robots-Tag:noindex
X-PUBLISHED-TTL:PT1H
BEGIN:VTIMEZONE
TZID:America/Chicago
BEGIN:DAYLIGHT
TZOFFSETFROM:-0600
TZOFFSETTO:-0500
TZNAME:CDT
DTSTART:20260308T080000
END:DAYLIGHT
BEGIN:STANDARD
TZOFFSETFROM:-0500
TZOFFSETTO:-0600
TZNAME:CST
DTSTART:20261101T070000
END:STANDARD
BEGIN:DAYLIGHT
TZOFFSETFROM:-0600
TZOFFSETTO:-0500
TZNAME:CDT
DTSTART:20270314T080000
END:DAYLIGHT
BEGIN:STANDARD
TZOFFSETFROM:-0500
TZOFFSETTO:-0600
TZNAME:CST
DTSTART:20271107T070000
END:STANDARD
BEGIN:DAYLIGHT
TZOFFSETFROM:-0600
TZOFFSETTO:-0500
TZNAME:CDT
DTSTART:20280312T080000
END:DAYLIGHT
BEGIN:STANDARD
TZOFFSETFROM:-0500
TZOFFSETTO:-0600
TZNAME:CST
DTSTART:20281105T070000
END:STANDARD
END:VTIMEZONE
BEGIN:VEVENT
DTSTART;TZID=America/Chicago:20270131T100000
DTEND;TZID=America/Chicago:20270131T113000
DTSTAMP:20260419T223809
CREATED:20250405T202945Z
LAST-MODIFIED:20250406T023743Z
UID:1290-1801389600-1801395000@www.risenhopechurch.life
SUMMARY:Sunday Service
DESCRIPTION:
URL:https://www.risenhopechurch.life/event/sunday-service-97/
CATEGORIES:Worship Service
END:VEVENT
BEGIN:VEVENT
DTSTART;TZID=America/Chicago:20270207T100000
DTEND;TZID=America/Chicago:20270207T113000
DTSTAMP:20260419T223809
CREATED:20250405T202945Z
LAST-MODIFIED:20250406T023743Z
UID:1292-1801994400-1801999800@www.risenhopechurch.life
SUMMARY:Sunday Service
DESCRIPTION:
URL:https://www.risenhopechurch.life/event/sunday-service-98/
CATEGORIES:Worship Service
END:VEVENT
BEGIN:VEVENT
DTSTART;TZID=America/Chicago:20270214T100000
DTEND;TZID=America/Chicago:20270214T113000
DTSTAMP:20260419T223809
CREATED:20250405T202945Z
LAST-MODIFIED:20250406T023744Z
UID:1294-1802599200-1802604600@www.risenhopechurch.life
SUMMARY:Sunday Service
DESCRIPTION:
URL:https://www.risenhopechurch.life/event/sunday-service-99/
CATEGORIES:Worship Service
END:VEVENT
BEGIN:VEVENT
DTSTART;TZID=America/Chicago:20270221T100000
DTEND;TZID=America/Chicago:20270221T113000
DTSTAMP:20260419T223809
CREATED:20250405T202945Z
LAST-MODIFIED:20250406T023744Z
UID:1296-1803204000-1803209400@www.risenhopechurch.life
SUMMARY:Sunday Service
DESCRIPTION:
URL:https://www.risenhopechurch.life/event/sunday-service-100/
CATEGORIES:Worship Service
END:VEVENT
BEGIN:VEVENT
DTSTART;TZID=America/Chicago:20270228T100000
DTEND;TZID=America/Chicago:20270228T113000
DTSTAMP:20260419T223809
CREATED:20250405T202946Z
LAST-MODIFIED:20250406T023744Z
UID:1298-1803808800-1803814200@www.risenhopechurch.life
SUMMARY:Sunday Service
DESCRIPTION:
URL:https://www.risenhopechurch.life/event/sunday-service-101/
CATEGORIES:Worship Service
END:VEVENT
BEGIN:VEVENT
DTSTART;TZID=America/Chicago:20270307T100000
DTEND;TZID=America/Chicago:20270307T113000
DTSTAMP:20260419T223809
CREATED:20250405T202946Z
LAST-MODIFIED:20250406T023744Z
UID:1300-1804413600-1804419000@www.risenhopechurch.life
SUMMARY:Sunday Service
DESCRIPTION:
URL:https://www.risenhopechurch.life/event/sunday-service-102/
CATEGORIES:Worship Service
END:VEVENT
BEGIN:VEVENT
DTSTART;TZID=America/Chicago:20270314T100000
DTEND;TZID=America/Chicago:20270314T113000
DTSTAMP:20260419T223809
CREATED:20250405T202946Z
LAST-MODIFIED:20250406T023744Z
UID:1302-1805018400-1805023800@www.risenhopechurch.life
SUMMARY:Sunday Service
DESCRIPTION:
URL:https://www.risenhopechurch.life/event/sunday-service-103/
CATEGORIES:Worship Service
END:VEVENT
BEGIN:VEVENT
DTSTART;TZID=America/Chicago:20270321T100000
DTEND;TZID=America/Chicago:20270321T113000
DTSTAMP:20260419T223809
CREATED:20250405T202946Z
LAST-MODIFIED:20250406T023744Z
UID:1304-1805623200-1805628600@www.risenhopechurch.life
SUMMARY:Sunday Service
DESCRIPTION:
URL:https://www.risenhopechurch.life/event/sunday-service-104/
CATEGORIES:Worship Service
END:VEVENT
BEGIN:VEVENT
DTSTART;TZID=America/Chicago:20270328T100000
DTEND;TZID=America/Chicago:20270328T113000
DTSTAMP:20260419T223809
CREATED:20250405T202946Z
LAST-MODIFIED:20250406T023744Z
UID:1306-1806228000-1806233400@www.risenhopechurch.life
SUMMARY:Sunday Service
DESCRIPTION:
URL:https://www.risenhopechurch.life/event/sunday-service-105/
CATEGORIES:Worship Service
END:VEVENT
BEGIN:VEVENT
DTSTART;TZID=America/Chicago:20270404T100000
DTEND;TZID=America/Chicago:20270404T113000
DTSTAMP:20260419T223809
CREATED:20250405T202946Z
LAST-MODIFIED:20250406T023744Z
UID:1308-1806832800-1806838200@www.risenhopechurch.life
SUMMARY:Sunday Service
DESCRIPTION:
URL:https://www.risenhopechurch.life/event/sunday-service-106/
CATEGORIES:Worship Service
END:VEVENT
END:VCALENDAR