BEGIN:VCALENDAR
VERSION:2.0
PRODID:-//Risen Hope Church - ECPv6.15.18//NONSGML v1.0//EN
CALSCALE:GREGORIAN
METHOD:PUBLISH
X-WR-CALNAME:Risen Hope Church
X-ORIGINAL-URL:https://www.risenhopechurch.life
X-WR-CALDESC:Events for Risen Hope Church
REFRESH-INTERVAL;VALUE=DURATION:PT1H
X-Robots-Tag:noindex
X-PUBLISHED-TTL:PT1H
BEGIN:VTIMEZONE
TZID:America/Chicago
BEGIN:DAYLIGHT
TZOFFSETFROM:-0600
TZOFFSETTO:-0500
TZNAME:CDT
DTSTART:20240310T080000
END:DAYLIGHT
BEGIN:STANDARD
TZOFFSETFROM:-0500
TZOFFSETTO:-0600
TZNAME:CST
DTSTART:20241103T070000
END:STANDARD
BEGIN:DAYLIGHT
TZOFFSETFROM:-0600
TZOFFSETTO:-0500
TZNAME:CDT
DTSTART:20250309T080000
END:DAYLIGHT
BEGIN:STANDARD
TZOFFSETFROM:-0500
TZOFFSETTO:-0600
TZNAME:CST
DTSTART:20251102T070000
END:STANDARD
BEGIN:DAYLIGHT
TZOFFSETFROM:-0600
TZOFFSETTO:-0500
TZNAME:CDT
DTSTART:20260308T080000
END:DAYLIGHT
BEGIN:STANDARD
TZOFFSETFROM:-0500
TZOFFSETTO:-0600
TZNAME:CST
DTSTART:20261101T070000
END:STANDARD
END:VTIMEZONE
BEGIN:VTIMEZONE
TZID:UTC
BEGIN:STANDARD
TZOFFSETFROM:+0000
TZOFFSETTO:+0000
TZNAME:UTC
DTSTART:20240101T000000
END:STANDARD
END:VTIMEZONE
BEGIN:VEVENT
DTSTART;TZID=America/Chicago:20250511T100000
DTEND;TZID=America/Chicago:20250511T113000
DTSTAMP:20260419T235008
CREATED:20250405T202929Z
LAST-MODIFIED:20250406T023735Z
UID:1071-1746957600-1746963000@www.risenhopechurch.life
SUMMARY:Sunday Service
DESCRIPTION:
URL:https://www.risenhopechurch.life/event/sunday-service-7/
CATEGORIES:Worship Service
END:VEVENT
BEGIN:VEVENT
DTSTART;TZID=America/Chicago:20250504T100000
DTEND;TZID=America/Chicago:20250504T113000
DTSTAMP:20260419T235008
CREATED:20250405T202929Z
LAST-MODIFIED:20250406T023735Z
UID:1064-1746352800-1746358200@www.risenhopechurch.life
SUMMARY:Sunday Service
DESCRIPTION:
URL:https://www.risenhopechurch.life/event/sunday-service-6/
CATEGORIES:Worship Service
END:VEVENT
BEGIN:VEVENT
DTSTART;TZID=America/Chicago:20250504T000000
DTEND;TZID=America/Chicago:20250504T235959
DTSTAMP:20260419T235008
CREATED:20250405T202929Z
LAST-MODIFIED:20250406T233916Z
UID:1065-1746316800-1746403199@www.risenhopechurch.life
SUMMARY:Communion Sunday
DESCRIPTION:
URL:https://www.risenhopechurch.life/event/communion-sunday/
CATEGORIES:Worship Service
END:VEVENT
BEGIN:VEVENT
DTSTART;TZID=America/Chicago:20250427T100000
DTEND;TZID=America/Chicago:20250427T113000
DTSTAMP:20260419T235008
CREATED:20250405T202929Z
LAST-MODIFIED:20250406T023735Z
UID:1062-1745748000-1745753400@www.risenhopechurch.life
SUMMARY:Sunday Service
DESCRIPTION:
URL:https://www.risenhopechurch.life/event/sunday-service-5/
CATEGORIES:Worship Service
END:VEVENT
BEGIN:VEVENT
DTSTART;TZID=America/Chicago:20250427T080000
DTEND;TZID=America/Chicago:20250427T090000
DTSTAMP:20260419T235008
CREATED:20250405T202928Z
LAST-MODIFIED:20250406T023735Z
UID:1061-1745740800-1745744400@www.risenhopechurch.life
SUMMARY:Bagel Sunday
DESCRIPTION:
URL:https://www.risenhopechurch.life/event/bagel-sunday/
CATEGORIES:Worship Service
END:VEVENT
BEGIN:VEVENT
DTSTART;TZID=America/Chicago:20250420T100000
DTEND;TZID=America/Chicago:20250420T113000
DTSTAMP:20260419T235008
CREATED:20250405T202928Z
LAST-MODIFIED:20250406T023734Z
UID:1053-1745143200-1745148600@www.risenhopechurch.life
SUMMARY:Sunday Service
DESCRIPTION:
URL:https://www.risenhopechurch.life/event/sunday-service-3/
CATEGORIES:Worship Service
END:VEVENT
BEGIN:VEVENT
DTSTART;TZID=America/Chicago:20250418T183000
DTEND;TZID=America/Chicago:20250418T193000
DTSTAMP:20260419T235008
CREATED:20250405T202928Z
LAST-MODIFIED:20250419T002612Z
UID:1052-1745001000-1745004600@www.risenhopechurch.life
SUMMARY:Good Friday Gathering
DESCRIPTION:
URL:https://www.risenhopechurch.life/event/good-friday-gathering/
LOCATION:The Lee’s Home
CATEGORIES:Worship Service
END:VEVENT
BEGIN:VEVENT
DTSTART;TZID=America/Chicago:20250413T100000
DTEND;TZID=America/Chicago:20250413T113000
DTSTAMP:20260419T235008
CREATED:20250405T202928Z
LAST-MODIFIED:20250406T023734Z
UID:1035-1744538400-1744543800@www.risenhopechurch.life
SUMMARY:Sunday Service
DESCRIPTION:
URL:https://www.risenhopechurch.life/event/sunday-service-2/
CATEGORIES:Worship Service
END:VEVENT
BEGIN:VEVENT
DTSTART;TZID=America/Chicago:20250406T100000
DTEND;TZID=America/Chicago:20250406T113000
DTSTAMP:20260419T235008
CREATED:20250405T202927Z
LAST-MODIFIED:20250406T023734Z
UID:1023-1743933600-1743939000@www.risenhopechurch.life
SUMMARY:Sunday Service
DESCRIPTION:
URL:https://www.risenhopechurch.life/event/sunday-service/
CATEGORIES:Worship Service
END:VEVENT
BEGIN:VEVENT
DTSTART;TZID=UTC:20250313T080000
DTEND;TZID=UTC:20250313T170000
DTSTAMP:20260419T235008
CREATED:20250211T141507Z
LAST-MODIFIED:20250405T204446Z
UID:409-1741852800-1741885200@www.risenhopechurch.life
SUMMARY:Worship Gathering
DESCRIPTION:
URL:https://www.risenhopechurch.life/event/worship-gathering/
CATEGORIES:Worship Service
ATTACH;FMTTYPE=image/jpeg:https://www.risenhopechurch.life/wp-content/uploads/2025/02/340830333_158961516798583_1584926809177130113_n.jpg
END:VEVENT
END:VCALENDAR