BEGIN:VCALENDAR
VERSION:2.0
PRODID:-//Risen Hope Church - ECPv6.15.18//NONSGML v1.0//EN
CALSCALE:GREGORIAN
METHOD:PUBLISH
X-WR-CALNAME:Risen Hope Church
X-ORIGINAL-URL:https://www.risenhopechurch.life
X-WR-CALDESC:Events for Risen Hope Church
REFRESH-INTERVAL;VALUE=DURATION:PT1H
X-Robots-Tag:noindex
X-PUBLISHED-TTL:PT1H
BEGIN:VTIMEZONE
TZID:UTC
BEGIN:STANDARD
TZOFFSETFROM:+0000
TZOFFSETTO:+0000
TZNAME:UTC
DTSTART:20240101T000000
END:STANDARD
END:VTIMEZONE
BEGIN:VEVENT
DTSTART;TZID=UTC:20250304T190000
DTEND;TZID=UTC:20250304T203000
DTSTAMP:20260420T045653
CREATED:20250224T223107Z
LAST-MODIFIED:20250409T160434Z
UID:693-1741114800-1741120200@www.risenhopechurch.life
SUMMARY:Women's Bible Study
DESCRIPTION:Bi-weekly Women’s Bible Study in alternating homes. Join in Prayer\, accountability\, relationships\, Study of God’s Truth found in Scripture.
URL:https://www.risenhopechurch.life/event/womens-bible-study-2/
CATEGORIES:Women's Ministry
END:VEVENT
BEGIN:VEVENT
DTSTART;TZID=UTC:20250306T183000
DTEND;TZID=UTC:20250306T200000
DTSTAMP:20260420T045653
CREATED:20250224T223124Z
LAST-MODIFIED:20250409T160440Z
UID:705-1741285800-1741291200@www.risenhopechurch.life
SUMMARY:Women's Bible Study
DESCRIPTION:Bi-weekly Women’s Bible Study in alternating homes. Join in Prayer\, accountability\, relationships\, Study of God’s Truth found in Scripture.
URL:https://www.risenhopechurch.life/event/womens-bible-study-14/
CATEGORIES:Women's Ministry
END:VEVENT
BEGIN:VEVENT
DTSTART;TZID=UTC:20250311T190000
DTEND;TZID=UTC:20250311T203000
DTSTAMP:20260420T045653
CREATED:20250224T223107Z
LAST-MODIFIED:20250409T160445Z
UID:694-1741719600-1741725000@www.risenhopechurch.life
SUMMARY:Women's Bible Study
DESCRIPTION:Bi-weekly Women’s Bible Study in alternating homes. Join in Prayer\, accountability\, relationships\, Study of God’s Truth found in Scripture.
URL:https://www.risenhopechurch.life/event/womens-bible-study-3/
CATEGORIES:Women's Ministry
END:VEVENT
BEGIN:VEVENT
DTSTART;TZID=UTC:20250313T183000
DTEND;TZID=UTC:20250313T200000
DTSTAMP:20260420T045653
CREATED:20250224T223125Z
LAST-MODIFIED:20250409T160456Z
UID:706-1741890600-1741896000@www.risenhopechurch.life
SUMMARY:Women's Bible Study
DESCRIPTION:Bi-weekly Women’s Bible Study in alternating homes. Join in Prayer\, accountability\, relationships\, Study of God’s Truth found in Scripture.
URL:https://www.risenhopechurch.life/event/womens-bible-study-15/
CATEGORIES:Women's Ministry
END:VEVENT
BEGIN:VEVENT
DTSTART;TZID=UTC:20250318T190000
DTEND;TZID=UTC:20250318T203000
DTSTAMP:20260420T045653
CREATED:20250224T223107Z
LAST-MODIFIED:20250409T160502Z
UID:695-1742324400-1742329800@www.risenhopechurch.life
SUMMARY:Women's Bible Study
DESCRIPTION:Bi-weekly Women’s Bible Study in alternating homes. Join in Prayer\, accountability\, relationships\, Study of God’s Truth found in Scripture.
URL:https://www.risenhopechurch.life/event/womens-bible-study-4/
CATEGORIES:Women's Ministry
END:VEVENT
BEGIN:VEVENT
DTSTART;TZID=UTC:20250320T183000
DTEND;TZID=UTC:20250320T200000
DTSTAMP:20260420T045653
CREATED:20250224T223139Z
LAST-MODIFIED:20250409T160507Z
UID:707-1742495400-1742500800@www.risenhopechurch.life
SUMMARY:Women's Bible Study
DESCRIPTION:Bi-weekly Women’s Bible Study in alternating homes. Join in Prayer\, accountability\, relationships\, Study of God’s Truth found in Scripture.
URL:https://www.risenhopechurch.life/event/womens-bible-study-16/
CATEGORIES:Women's Ministry
END:VEVENT
BEGIN:VEVENT
DTSTART;TZID=UTC:20250325T190000
DTEND;TZID=UTC:20250325T203000
DTSTAMP:20260420T045653
CREATED:20250224T223107Z
LAST-MODIFIED:20250409T160513Z
UID:696-1742929200-1742934600@www.risenhopechurch.life
SUMMARY:Women's Bible Study
DESCRIPTION:Bi-weekly Women’s Bible Study in alternating homes. Join in Prayer\, accountability\, relationships\, Study of God’s Truth found in Scripture.
URL:https://www.risenhopechurch.life/event/womens-bible-study-5/
CATEGORIES:Women's Ministry
END:VEVENT
BEGIN:VEVENT
DTSTART;TZID=UTC:20250327T183000
DTEND;TZID=UTC:20250327T200000
DTSTAMP:20260420T045653
CREATED:20250224T223139Z
LAST-MODIFIED:20250409T160518Z
UID:708-1743100200-1743105600@www.risenhopechurch.life
SUMMARY:Women's Bible Study
DESCRIPTION:Bi-weekly Women’s Bible Study in alternating homes. Join in Prayer\, accountability\, relationships\, Study of God’s Truth found in Scripture.
URL:https://www.risenhopechurch.life/event/womens-bible-study-17/
CATEGORIES:Women's Ministry
END:VEVENT
END:VCALENDAR