BEGIN:VCALENDAR
VERSION:2.0
PRODID:-//Risen Hope Church - ECPv6.15.18//NONSGML v1.0//EN
CALSCALE:GREGORIAN
METHOD:PUBLISH
X-WR-CALNAME:Risen Hope Church
X-ORIGINAL-URL:https://www.risenhopechurch.life
X-WR-CALDESC:Events for Risen Hope Church
REFRESH-INTERVAL;VALUE=DURATION:PT1H
X-Robots-Tag:noindex
X-PUBLISHED-TTL:PT1H
BEGIN:VTIMEZONE
TZID:UTC
BEGIN:STANDARD
TZOFFSETFROM:+0000
TZOFFSETTO:+0000
TZNAME:UTC
DTSTART:20240101T000000
END:STANDARD
END:VTIMEZONE
BEGIN:VEVENT
DTSTART;TZID=UTC:20250401T190000
DTEND;TZID=UTC:20250401T203000
DTSTAMP:20260420T032008
CREATED:20250224T223111Z
LAST-MODIFIED:20250409T160524Z
UID:697-1743534000-1743539400@www.risenhopechurch.life
SUMMARY:Women's Bible Study
DESCRIPTION:Bi-weekly Women’s Bible Study in alternating homes. Join in Prayer\, accountability\, relationships\, Study of God’s Truth found in Scripture.
URL:https://www.risenhopechurch.life/event/womens-bible-study-6/
CATEGORIES:Women's Ministry
END:VEVENT
BEGIN:VEVENT
DTSTART;TZID=UTC:20250403T183000
DTEND;TZID=UTC:20250403T200000
DTSTAMP:20260420T032008
CREATED:20250224T223139Z
LAST-MODIFIED:20250409T160528Z
UID:709-1743705000-1743710400@www.risenhopechurch.life
SUMMARY:Women's Bible Study
DESCRIPTION:Bi-weekly Women’s Bible Study in alternating homes. Join in Prayer\, accountability\, relationships\, Study of God’s Truth found in Scripture.
URL:https://www.risenhopechurch.life/event/womens-bible-study-18/
CATEGORIES:Women's Ministry
END:VEVENT
BEGIN:VEVENT
DTSTART;TZID=UTC:20250415T190000
DTEND;TZID=UTC:20250415T203000
DTSTAMP:20260420T032008
CREATED:20250224T223111Z
LAST-MODIFIED:20250409T160554Z
UID:699-1744743600-1744749000@www.risenhopechurch.life
SUMMARY:Women's Bible Study
DESCRIPTION:Bi-weekly Women’s Bible Study in alternating homes. Join in Prayer\, accountability\, relationships\, Study of God’s Truth found in Scripture.
URL:https://www.risenhopechurch.life/event/womens-bible-study-8/
CATEGORIES:Women's Ministry
END:VEVENT
BEGIN:VEVENT
DTSTART;TZID=UTC:20250417T183000
DTEND;TZID=UTC:20250417T200000
DTSTAMP:20260420T032008
CREATED:20250224T223140Z
LAST-MODIFIED:20250409T160559Z
UID:711-1744914600-1744920000@www.risenhopechurch.life
SUMMARY:Women's Bible Study
DESCRIPTION:Bi-weekly Women’s Bible Study in alternating homes. Join in Prayer\, accountability\, relationships\, Study of God’s Truth found in Scripture.
URL:https://www.risenhopechurch.life/event/womens-bible-study-20/
CATEGORIES:Women's Ministry
END:VEVENT
BEGIN:VEVENT
DTSTART;TZID=UTC:20250422T190000
DTEND;TZID=UTC:20250422T203000
DTSTAMP:20260420T032008
CREATED:20250224T223112Z
LAST-MODIFIED:20250409T160616Z
UID:700-1745348400-1745353800@www.risenhopechurch.life
SUMMARY:Women's Bible Study
DESCRIPTION:Bi-weekly Women’s Bible Study in alternating homes. Join in Prayer\, accountability\, relationships\, Study of God’s Truth found in Scripture.
URL:https://www.risenhopechurch.life/event/womens-bible-study-9/
CATEGORIES:Women's Ministry
END:VEVENT
BEGIN:VEVENT
DTSTART;TZID=UTC:20250429T190000
DTEND;TZID=UTC:20250429T203000
DTSTAMP:20260420T032008
CREATED:20250224T223112Z
LAST-MODIFIED:20250409T160630Z
UID:701-1745953200-1745958600@www.risenhopechurch.life
SUMMARY:Women's Bible Study
DESCRIPTION:Bi-weekly Women’s Bible Study in alternating homes. Join in Prayer\, accountability\, relationships\, Study of God’s Truth found in Scripture.
URL:https://www.risenhopechurch.life/event/womens-bible-study-10/
CATEGORIES:Women's Ministry
END:VEVENT
END:VCALENDAR